BEGIN:VCALENDAR
VERSION:2.0
PRODID:-//Durham Convention Center - ECPv6.15.20//NONSGML v1.0//EN
CALSCALE:GREGORIAN
METHOD:PUBLISH
X-WR-CALNAME:Durham Convention Center
X-ORIGINAL-URL:https://durhamconventioncenter.com
X-WR-CALDESC:Events for Durham Convention Center
REFRESH-INTERVAL;VALUE=DURATION:PT1H
X-Robots-Tag:noindex
X-PUBLISHED-TTL:PT1H
BEGIN:VTIMEZONE
TZID:UTC
BEGIN:STANDARD
TZOFFSETFROM:+0000
TZOFFSETTO:+0000
TZNAME:UTC
DTSTART:20230101T000000
END:STANDARD
END:VTIMEZONE
BEGIN:VEVENT
DTSTART;TZID=UTC:20251020T090000
DTEND;TZID=UTC:20251020T170000
DTSTAMP:20260423T184403
CREATED:20250730T184827Z
LAST-MODIFIED:20250801T124839Z
UID:10000017-1760950800-1760979600@durhamconventioncenter.com
SUMMARY:Celebrating People\, Profits & Productivity-2025 Durham MED Week Celebration
DESCRIPTION:Kickoff Durham MED Week 2025 at the Durham Convention Center! Starting at 9 AM\, meet with industry experts\, attend workshops\, and discover new opportunities. \nTimeline:\n9a-2p – Keynote Address with Curtis Ray Hill\nCurtis Ray Hill is president of Culture of Belonging Global\, INC and is an inclusion equity coach. \n2-5p – Business Fair\nThe fair will focus on MWUBEs and connect minority and women-owned businesses with companies that have subcontracting and small business opportunities. \nParking\nParking at the Durham Convention Center is located across the street at the Durham Centre Garage. Find more information and directions on our website. \nBackground\nMED stands for Minority Enterprise Development. This event\, planned by the City of Durham\, highlights achievements and impacts of minority business owners throughout North Carolina. The week unites a diverse group of business owners\, leaders\, and professionals from various industries together to spark innovation and unlock new growth opportunities. Read more about the event on the city’s website.
URL:https://durhamconventioncenter.com/event/2025-durham-med-week-celebration/
LOCATION:Durham Convention Center\, 301 W. Morgan St.\, Durham\, NC\, 27701\, United States
ATTACH;FMTTYPE=image/jpeg:https://durhamconventioncenter.com/wp-content/uploads/2025/07/https___cdn.evbuc_.com_images_1046008223_2746954811551_1_original.jpg
END:VEVENT
BEGIN:VEVENT
DTSTART;TZID=UTC:20251009T090000
DTEND;TZID=UTC:20251010T173000
DTSTAMP:20260423T184403
CREATED:20250918T185058Z
LAST-MODIFIED:20250918T185136Z
UID:10000023-1760000400-1760117400@durhamconventioncenter.com
SUMMARY:The McLendon Experience
DESCRIPTION:The McLendon Experience is a two-day bootcamp designed for student-athletes\, students\, and young professionals\, equipping them with the tools\, knowledge\, and connections to break into and thrive in the sports industry.\n\nFor more details about the McLendon Foundation and this event\, click here.
URL:https://durhamconventioncenter.com/event/the-mclendon-experience/
LOCATION:Durham Convention Center\, 301 W. Morgan St.\, Durham\, NC\, 27701\, United States
ATTACH;FMTTYPE=image/png:https://durhamconventioncenter.com/wp-content/uploads/2025/09/TMX-2-1-scaled.png
END:VEVENT
BEGIN:VEVENT
DTSTART;TZID=UTC:20251004T120000
DTEND;TZID=UTC:20251005T180000
DTSTAMP:20260423T184403
CREATED:20250812T132410Z
LAST-MODIFIED:20250812T132500Z
UID:10000021-1759579200-1759687200@durhamconventioncenter.com
SUMMARY:CLICK! Photography Festival
DESCRIPTION:CLICK! Photography Festival is returning to the Durham Convention Center this October 2025. This month long festival will kick off with a specially curated group of exhibitors to showcase their products and services at the venue\, along with demonstrations\, panel discussions\, and more! \nTimeline:\nKick off the first day at the 2nd Annual (Mostly) Film Photo Walk led by Caleb\, a film photographer and YouTuber. The walk kicks of at 9 AM at the convention center\, rain or shine! The walk is free and open to the public with an RSVP\, thanks to sponsor Freestyle Photo Imaging and Supplies. Reservations open on August 1\, 2025. \nOctober 4\, 2025 from 12 PM to 8 PM \nOctober 5\, 2025 from 10 AM to 6 PM \nParking:\nParking at the Durham Convention Center for the CLICK! Photography Festival is available at the Durham Centre Garage at 300 W Morgan St. There are two entrance into the garage. 1st level entry is available on W Morgan St. 3rd level entry is available on Morris St. Directions to the venue and the garage are located on our website.
URL:https://durhamconventioncenter.com/event/5635/
LOCATION:Durham Convention Center\, 301 W. Morgan St.\, Durham\, NC\, 27701\, United States
ATTACH;FMTTYPE=image/jpeg:https://durhamconventioncenter.com/wp-content/uploads/2025/08/Click-Photography-Expereince-scaled.jpg
END:VEVENT
BEGIN:VEVENT
DTSTART;TZID=UTC:20250927T120000
DTEND;TZID=UTC:20250928T210000
DTSTAMP:20260423T184403
CREATED:20250807T131648Z
LAST-MODIFIED:20250807T131648Z
UID:10000020-1758974400-1759093200@durhamconventioncenter.com
SUMMARY:SQ XL: Burst la Burst
DESCRIPTION:Run by the North Carolina Anime FGC\, SQ XL: Burst la Burst is a 2-day regional tournament happening at the Durham Convention Center September 27-28\, 2025. The tournament lineup includes Guilty Gear\, BlazBlue\, and Melty Blood with multiple community events as well!
URL:https://durhamconventioncenter.com/event/sq-xl-burst-la-burst/
LOCATION:Durham Convention Center\, 301 W. Morgan St.\, Durham\, NC\, 27701\, United States
ATTACH;FMTTYPE=image/png:https://durhamconventioncenter.com/wp-content/uploads/2025/08/SQ3_Slide_Flier.png
END:VEVENT
BEGIN:VEVENT
DTSTART;TZID=UTC:20250816T100000
DTEND;TZID=UTC:20250817T160000
DTSTAMP:20260423T184403
CREATED:20250624T145737Z
LAST-MODIFIED:20250702T191111Z
UID:10000016-1755338400-1755446400@durhamconventioncenter.com
SUMMARY:Durham Bead Show
DESCRIPTION:The Intergalactic Bead Show is returning to Durham\, North Carolina this Aug 16-17\, 2025. The show features wholesale and retail exhibitions to unite artisans and buyers from across the globe. Find gemstones\, ancient beads\, cabochons\, pearls\, and so much more! \nAgenda\nAugust 16\nDoors open at 10 AM\nEvent ends at 5 PM \nAugust 17\nDoors open at 10 AM\nEvent ends at 4 PM \nTickets\nTickets are available for sale on Eventbrite. Use promo code “Beaders” to get $2 off! \nParking\nParking for the bead show is available at the Durham Centre Garage at 300 W Morgan St. Parking is typically free on weekends\, unless there is a special event going on downtown. Find directions on our website!
URL:https://durhamconventioncenter.com/event/durham-bead-show/
LOCATION:Durham Convention Center\, 301 W. Morgan St.\, Durham\, NC\, 27701\, United States
ATTACH;FMTTYPE=image/png:https://durhamconventioncenter.com/wp-content/uploads/2025/06/Untitled-2.png
END:VEVENT
BEGIN:VEVENT
DTSTART;TZID=UTC:20250815T200000
DTEND;TZID=UTC:20250815T220000
DTSTAMP:20260423T184403
CREATED:20250624T142901Z
LAST-MODIFIED:20250702T191142Z
UID:10000015-1755288000-1755295200@durhamconventioncenter.com
SUMMARY:Extreme Dwarfanators Wrestling
DESCRIPTION:Unleash the excitement with Extreme Dwarfanators Wrestling. Whether you’re in the mood to laugh or experience thrills\, the show has something for everyone! Los mini enmascarados will perform unique Lucha Libre in the ring where they will fly aerials and do scissor kicks\, wheelbarrow holds\, and defend their title to become champion! \nTickets\nTickets are available for purchase on the EDW website. Tickets are nonrefundable unless the show is cancelled. \nParking\nParking for the Durham Convention Center is available at the Durham Centre Garage on 300 W Morgan St. Parking is typically free on weekends\, except when there is a special event downtown. View directions and additional details on our website here.
URL:https://durhamconventioncenter.com/event/extreme-dwarfanators-wrestling/
LOCATION:Durham Convention Center\, 301 W. Morgan St.\, Durham\, NC\, 27701\, United States
ATTACH;FMTTYPE=image/jpeg:https://durhamconventioncenter.com/wp-content/uploads/2025/06/qqesfet5r4hqvjflp4od.jpg
END:VEVENT
BEGIN:VEVENT
DTSTART;TZID=UTC:20250713T180000
DTEND;TZID=UTC:20250713T210000
DTSTAMP:20260423T184403
CREATED:20250624T140220Z
LAST-MODIFIED:20250702T191342Z
UID:10000014-1752429600-1752440400@durhamconventioncenter.com
SUMMARY:DPW Presents: 3rd Annual Tag Festival | LIVE Pro Wrestling
DESCRIPTION:Agenda\n5 – 5:30 PM: VIP Add-On Priority – Doors Open\n5:30 – 6 PM: General Ticket Holder – Doors Open\n5:30 – 6 PM: Early Prelim Matches – If Applicable\n6 – 9 PM: Event Start/End – Bell to Bell \nTickets\nDifferent ticket and VIP options are available. VIP includes early event access\, exclusive event lanyard\, and exclusive event poster with a chance to get it signed by DPW wrestlers! Tickets are for sale on Eventbrite. \nParking\nParking is available at the Durham Centre Garage at 300 W Morgan St. Parking is typically free on Sunday\, unless there is a special event going on downtown. Find more parking details on our website here.
URL:https://durhamconventioncenter.com/event/dpw-presents-3rd-annual-tag-festival-live-pro-wrestling/
LOCATION:Durham Convention Center\, 301 W. Morgan St.\, Durham\, NC\, 27701\, United States
ATTACH;FMTTYPE=image/jpeg:https://durhamconventioncenter.com/wp-content/uploads/2025/06/https___cdn.evbuc_.com_images_1058740943_670147049403_1_original.jpg
END:VEVENT
BEGIN:VEVENT
DTSTART;TZID=UTC:20250531T180000
DTEND;TZID=UTC:20250531T223000
DTSTAMP:20260423T184403
CREATED:20250417T165801Z
LAST-MODIFIED:20250417T165801Z
UID:10000011-1748714400-1748730600@durhamconventioncenter.com
SUMMARY:Durham UNCF Mayor's Scholarship Ball
DESCRIPTION:Join us for an evening of elegance\, inspiration\, and impact at the inaugural United Negro College Fund (UNCF) Mayor’s Scholarship Ball. Tickets start at $200 and will help support scholarships for deserving students to advance their educational opportunities. \nTickets and Sponsorship Opportunities are available here: https://www.emailmeform.com/builder/form/qax2dh3cd37zKT \nUNCF is the nation’s largest minority education organization that supports students’ education and development through scholarships\, supports member colleges and universities\, and advocates for the importance of minority education and college readiness. \nHave a direct impact in our community and young people’s lives by supporting this event.
URL:https://durhamconventioncenter.com/event/durham-uncf-mayors-scholarship-ball/
LOCATION:Durham Convention Center\, 301 W. Morgan St.\, Durham\, NC\, 27701\, United States
ATTACH;FMTTYPE=image/png:https://durhamconventioncenter.com/wp-content/uploads/2025/04/Durham-Uncf-2.png
END:VEVENT
BEGIN:VEVENT
DTSTART;TZID=UTC:20250516T170000
DTEND;TZID=UTC:20250518T170000
DTSTAMP:20260423T184403
CREATED:20250127T184914Z
LAST-MODIFIED:20250127T184914Z
UID:10000010-1747414800-1747587600@durhamconventioncenter.com
SUMMARY:Ishcon
DESCRIPTION:Immerse yourself in the toy community at 2025 Ishcon. Dedicated to creating an experience filled with joy\, wonder\, and creativity\, Ishcon is a must see for collectors and families alike. Each display has been carefully selected to inspire self-expression and artistic discovery and each vendor has been selected to create a profound sense of delight and nostalgic connection. \nTickets:  \nOne-Day Pass: $10 \nWeekend Pass: $15 \nTo-Do:  \n\nConnect with over 10 artists\nShop with over 10 vendors\nGrow your collection with a merch swap\nWin rare toys at auction night\nWin grail toys at bingo\nAnd so much more!\n\nIshcon is a fun\, budget-friendly\, family event happening in Durham\, NC this May 2025. Purchase your tickets now and experience the fun of toys!
URL:https://durhamconventioncenter.com/event/ishcon/
LOCATION:Durham Convention Center\, 301 W. Morgan St.\, Durham\, NC\, 27701\, United States
ATTACH;FMTTYPE=image/png:https://durhamconventioncenter.com/wp-content/uploads/2025/01/ishcon.png
END:VEVENT
BEGIN:VEVENT
DTSTART;TZID=UTC:20250506T080000
DTEND;TZID=UTC:20250506T190000
DTSTAMP:20260423T184403
CREATED:20250423T185253Z
LAST-MODIFIED:20250423T185253Z
UID:10000012-1746518400-1746558000@durhamconventioncenter.com
SUMMARY:Durham Business Evolution Summit + EXPO
DESCRIPTION:Join us for an event centered around ways to innovate your processes and business. Explore the latest trends and strategies surrounding technology advancements including artificial intelligence\, supply chain management\, importing and exporting products\, marketing/branding\, human resources\, and access to capital. \nCost: FREE \n\nAfter the summit\, there will be a special networking event from 5 – 7 PM. A perfect chance to connect with fellow innovators\, entrepreneurs\, and business leaders in an engaging and collaborative setting. \nLearn More and RSVP on Eventbrite. \nInterested in Exhibiting?\nThe summit is looking for businesses and organizations that are using forward-thinking strategies to revolutionize the way we do business. Think AI software\, financial tech tools\, digital platforms\, supply chain innovators\, and anyone who uses technology in innovative ways. \nIf your product or service helps business owners evolve\, apply to exhibit today!
URL:https://durhamconventioncenter.com/event/durham-business-evolution-summit-expo/
LOCATION:Durham Convention Center\, 301 W. Morgan St.\, Durham\, NC\, 27701\, United States
ATTACH;FMTTYPE=image/png:https://durhamconventioncenter.com/wp-content/uploads/2025/04/https___cdn.evbuc_.com_images_1006175783_3327551947_1_original.png
END:VEVENT
BEGIN:VEVENT
DTSTART;VALUE=DATE:20241109
DTEND;VALUE=DATE:20241111
DTSTAMP:20260423T184403
CREATED:20240715T172359Z
LAST-MODIFIED:20240812T170040Z
UID:10000002-1731110400-1731283199@durhamconventioncenter.com
SUMMARY:NC Comicon
DESCRIPTION:Locally owned NC Comicon is your ultimate celebration of comics and pop-culture in the Triangle! With its creator-focused vision and intimate\, all-encompassing atmosphere\, NC Comicon is a prime destination for fans and creators of all walks and passions to learn\, celebrate\, and share in a wide variety of interests and fandoms\, from comics to cosplay\, gaming\, film\, animation\, design\, and more. Regardless of age or experience level\, all are invited and welcome at NC Comicon! \nPass prices range from $24.99 to $99.99 and kids get in free.
URL:https://durhamconventioncenter.com/event/nc-comicon/
LOCATION:Durham Convention Center\, 301 W. Morgan St.\, Durham\, NC\, 27701\, United States
ATTACH;FMTTYPE=image/jpeg:https://durhamconventioncenter.com/wp-content/uploads/2024/07/ncc24-ronin-slider-scaled-1.jpg
END:VEVENT
BEGIN:VEVENT
DTSTART;TZID=UTC:20241018T183000
DTEND;TZID=UTC:20241018T213000
DTSTAMP:20260423T184403
CREATED:20240809T203827Z
LAST-MODIFIED:20240928T173230Z
UID:10000005-1729276200-1729287000@durhamconventioncenter.com
SUMMARY:Kyndall Owens Solo Art Exhibition
DESCRIPTION:Join us to celebrate Kyndall Owens\, aka Kreativityyy\, newest art “In the Presence of Divine Creativity.” The solo exhibition is free to the public and begins at 6:30 PM on 10.18.24. The exhibition will feature a range of original paintings with special insight into the designs by Kyndall Owens. \nWhile viewing the spectacular pieces of art\, you can also enter giveaways\, snack\, and listen to live music. RSVP for the event on Eventbrite.
URL:https://durhamconventioncenter.com/event/kyndall-owens-solo-art-exhibition/
LOCATION:Durham Convention Center\, 301 W. Morgan St.\, Durham\, NC\, 27701\, United States
ATTACH;FMTTYPE=image/png:https://durhamconventioncenter.com/wp-content/uploads/2024/08/Landscape-Flyer.png
END:VEVENT
BEGIN:VEVENT
DTSTART;TZID=UTC:20241018T070000
DTEND;TZID=UTC:20241019T173000
DTSTAMP:20260423T184403
CREATED:20241018T172839Z
LAST-MODIFIED:20241018T172839Z
UID:10000008-1729234800-1729359000@durhamconventioncenter.com
SUMMARY:2024 Annual Research Conference
DESCRIPTION:Every year\, the SSO:USA Annual Research Conference brings together leading researchers\, scholars\, therapists\, and students to exchange ideas and share their work related to the study of participation in daily activities or those activities that occupy our lives. We are excited to announce that the 2024 Annual Research Conference will take place October 17 – 19\, 2024\, at the Durham Convention Center in Durham\, North Carolina.  \nHave you heard about Durham\, North Carolina? Its rich civil rights history and vibrant arts scene set the stage for the SSO:USA conference\, “Art and Occupation: Creativity\, Critical Theory\, and Social Transformation.”   Durham’s diverse cultural landscape and history in civil rights set the stage for our discussions. Wander through streets with poignant murals telling tales of resilience and activism. Visit our museums and theaters showcasing the city’s diverse heritage and artistic expression. Enjoy the “foodie” scene in our restaurants. Situated in historic downtown Durham\, the conference offers an ideal setting for dialogue about occupational science as we work to build and strengthen our community of scholars. Join us in October\, immerse yourself in dialogue\, and use your occupational balance time to explore the city’s dynamic energy\, deeply rooted in its ongoing fight for civil rights and flourishing arts scene.
URL:https://durhamconventioncenter.com/event/2024-annual-research-conference/
LOCATION:Durham Convention Center\, 301 W. Morgan St.\, Durham\, NC\, 27701\, United States
ATTACH;FMTTYPE=image/webp:https://durhamconventioncenter.com/wp-content/uploads/2024/10/CFA-Flyer.webp
END:VEVENT
BEGIN:VEVENT
DTSTART;TZID=UTC:20241011T090000
DTEND;TZID=UTC:20241011T170000
DTSTAMP:20260423T184403
CREATED:20241002T180807Z
LAST-MODIFIED:20241002T180807Z
UID:10000007-1728637200-1728666000@durhamconventioncenter.com
SUMMARY:Mammogram Unit
DESCRIPTION:Take a step towards preventative health! 🌸 Invision Diagnostics Mammogram Unit will be onsite at the Durham Convention Center/Marriott Hotel! Appointments will be available Friday\, Oct 11 from 9-5p. \nHow to Schedule your Appointment at Oak View Group Goes Pink:\n– appointments.invisiondiagnostics.com\n– Enter the Zip Code (27701) or Event Name (Oak View Group) \n– Click on your event/schedule\n– Select a time\n– Click on Get Appointment\n– From there you will enter all necessary information needed to schedule a mammogram appointment\n  or call 877.318.1349\n\nFAQ:\n\n\n\nInvision will process everything through your insurance company\, so there is no cost to you! We accept all insurances. *Note- Insurance carriers will cover 1 annual mammogram\, typically 366 days from date of last mammogram.\n\n\nOur self-pay fee is an all-inclusive fee of $200. This includes the imaging\, radiologist report\, etc. The patient will not receive a bill from a third party.\n\n\nIf you are a female\, over 35 years old and have not had a mammogram in the past year\, you are eligible for a mammogram! (Ages 35-39 are eligible for 1 scan within those years\, 40 and over eligible annually) Please take note that some insurances will not cover under 40 for typical screenings. If you are under 40\, please make sure to call your insurance company in advance to be sure they will cover your screening.\n\n\nWe are not handicap accessible. Patients must be able to ascend/descend 3 stairs.\n\nMammograms typically take 15 minutes to complete.\n\nPlease bring your insurance card and driver’s license with you to your appointment\n\n\nPARKING: \nParking is available at the garage across the street from the Carolina Theatre/our plaza and along the street. Directions are available here.
URL:https://durhamconventioncenter.com/event/mammogram-unit/
LOCATION:Durham Convention Center\, 301 W. Morgan St.\, Durham\, NC\, 27701\, United States
ATTACH;FMTTYPE=image/png:https://durhamconventioncenter.com/wp-content/uploads/2024/10/BUSImage-1.png
END:VEVENT
BEGIN:VEVENT
DTSTART;TZID=UTC:20240915T170000
DTEND;TZID=UTC:20240915T210000
DTSTAMP:20260423T184403
CREATED:20240809T202833Z
LAST-MODIFIED:20240812T170043Z
UID:10000004-1726419600-1726434000@durhamconventioncenter.com
SUMMARY:DPW Carolina Classic
DESCRIPTION:Join us for the 3rd Annual Carolina Classic Tournament\, hosted at the Durham Convention Center! Deadlock Pro Wrestlers from all around the world will gather for one big throw down. \nFor VIP ticket holders\, doors open at 5 PM. For all others\, the doors open at 5:30 PM and the bell rings at 6 PM. The winner of this match earns a guaranteed DPW World Championship match contract!
URL:https://durhamconventioncenter.com/event/dpw-carolina-classic/
LOCATION:Durham Convention Center\, 301 W. Morgan St.\, Durham\, NC\, 27701\, United States
ATTACH;FMTTYPE=image/png:https://durhamconventioncenter.com/wp-content/uploads/2024/08/dpw_carolinaclassic_announcement_showinfo23.png
END:VEVENT
BEGIN:VEVENT
DTSTART;TZID=UTC:20240907T210000
DTEND;TZID=UTC:20240908T020000
DTSTAMP:20260423T184403
CREATED:20240809T205447Z
LAST-MODIFIED:20240812T170044Z
UID:10000006-1725742800-1725760800@durhamconventioncenter.com
SUMMARY:Summer Fling Party
DESCRIPTION:Join the Ladies of Alpha Zeta Omega Chapter of Alpha Kappa Alpha Sorority\, Inc. and the Brothers of Beta Phi Chapter of Omega Psi Phi Fraternity\, Inc. as we host our Inaugural Summer Fling Party featuring DJ Brian Dawson. \n 
URL:https://durhamconventioncenter.com/event/summer-fling-party/
LOCATION:Durham Convention Center\, 301 W. Morgan St.\, Durham\, NC\, 27701\, United States
ATTACH;FMTTYPE=image/jpeg:https://durhamconventioncenter.com/wp-content/uploads/2024/08/https___cdn.evbuc_.com_images_822702369_133066119924_1_original.jpg
END:VEVENT
END:VCALENDAR