BEGIN:VCALENDAR
VERSION:2.0
PRODID:-//Durham Convention Center - ECPv6.15.20//NONSGML v1.0//EN
CALSCALE:GREGORIAN
METHOD:PUBLISH
X-WR-CALNAME:Durham Convention Center
X-ORIGINAL-URL:https://durhamconventioncenter.com
X-WR-CALDESC:Events for Durham Convention Center
REFRESH-INTERVAL;VALUE=DURATION:PT1H
X-Robots-Tag:noindex
X-PUBLISHED-TTL:PT1H
BEGIN:VTIMEZONE
TZID:UTC
BEGIN:STANDARD
TZOFFSETFROM:+0000
TZOFFSETTO:+0000
TZNAME:UTC
DTSTART:20250101T000000
END:STANDARD
END:VTIMEZONE
BEGIN:VEVENT
DTSTART;TZID=UTC:20260110T100000
DTEND;TZID=UTC:20260110T180000
DTSTAMP:20260423T213816
CREATED:20251105T151017Z
LAST-MODIFIED:20251105T151017Z
UID:10000026-1768039200-1768068000@durhamconventioncenter.com
SUMMARY:Princess Day
DESCRIPTION:Step into a world of sparkle and imagination at Princess Day! Join us at the Durham Convention Center on January 10\, 2026 for a magical day of princess meet-and-greets\, games\, crafts\, and lots of royal fun. Costumes are encouraged for all aspiring princesses and princes. \nTickets\nTickets are offered for three time slots to ensure everyone has a chance to enjoy the royal fun. Entry times begin at 10 AM\, 12 PM\, or 2:30 PM. Each session includes plenty of time to meet the princesses and take photos\, receive dance lessons\, play games\, and more! There will be no onsite ticket sales. All tickets must be purchased online through Eventbrite. Children under 12 months are FREE when accompanied by a paid adult/child pair. All tickets are non-refundable. \nWhat to Expect\nThe event begins with a grand entrance as the fairytale friends are introduced to the crowd. After warm welcomes\, group-friendly games will ensue to help our aspiring princesses and princes get comfortable and ready for fun! Throughout each session\, the mini princesses and princes will have the chance to interact with each princess – taking photos and creating magical moments. \nTips for Success\n\nLittle ones are encouraged to wear their favorite princess dress or costume and adults should dress in their Sunday bests!\nPlease bring a camera so you can capture all the magical moments.\nWe recommend eating before arrival. No food or drink will be served onsite.\nPlan to arrive at least 10 minutes before session start to ensure time to park.\n\nParking\nLimited street parking is available in front of the Durham Convention Center on W Morgan St and the Armory on Foster St. Across the street from the venue is the Durham Centre Garage\, which offers over 700 parking spaces. Parking is typically free on weekends unless the garage is operating for a special event. You can verify parking prices and the special event calendar here. Directions to the venue and garage are available on our website here. The ADA entrance is located at the Marriott Hotel Valet on Foster St. \n 
URL:https://durhamconventioncenter.com/event/princess-day/
LOCATION:Durham Convention Center\, 301 W. Morgan St.\, Durham\, NC\, 27701\, United States
ATTACH;FMTTYPE=image/jpeg:https://durhamconventioncenter.com/wp-content/uploads/2025/11/IMG_5239.jpg
END:VEVENT
END:VCALENDAR