BEGIN:VCALENDAR
VERSION:2.0
PRODID:-//Durham Convention Center - ECPv6.15.20//NONSGML v1.0//EN
CALSCALE:GREGORIAN
METHOD:PUBLISH
X-WR-CALNAME:Durham Convention Center
X-ORIGINAL-URL:https://durhamconventioncenter.com
X-WR-CALDESC:Events for Durham Convention Center
REFRESH-INTERVAL;VALUE=DURATION:PT1H
X-Robots-Tag:noindex
X-PUBLISHED-TTL:PT1H
BEGIN:VTIMEZONE
TZID:UTC
BEGIN:STANDARD
TZOFFSETFROM:+0000
TZOFFSETTO:+0000
TZNAME:UTC
DTSTART:20240101T000000
END:STANDARD
END:VTIMEZONE
BEGIN:VEVENT
DTSTART;TZID=UTC:20250506T080000
DTEND;TZID=UTC:20250506T190000
DTSTAMP:20260423T232441
CREATED:20250423T185253Z
LAST-MODIFIED:20250423T185253Z
UID:10000012-1746518400-1746558000@durhamconventioncenter.com
SUMMARY:Durham Business Evolution Summit + EXPO
DESCRIPTION:Join us for an event centered around ways to innovate your processes and business. Explore the latest trends and strategies surrounding technology advancements including artificial intelligence\, supply chain management\, importing and exporting products\, marketing/branding\, human resources\, and access to capital. \nCost: FREE \n\nAfter the summit\, there will be a special networking event from 5 – 7 PM. A perfect chance to connect with fellow innovators\, entrepreneurs\, and business leaders in an engaging and collaborative setting. \nLearn More and RSVP on Eventbrite. \nInterested in Exhibiting?\nThe summit is looking for businesses and organizations that are using forward-thinking strategies to revolutionize the way we do business. Think AI software\, financial tech tools\, digital platforms\, supply chain innovators\, and anyone who uses technology in innovative ways. \nIf your product or service helps business owners evolve\, apply to exhibit today!
URL:https://durhamconventioncenter.com/event/durham-business-evolution-summit-expo/
LOCATION:Durham Convention Center\, 301 W. Morgan St.\, Durham\, NC\, 27701\, United States
ATTACH;FMTTYPE=image/png:https://durhamconventioncenter.com/wp-content/uploads/2025/04/https___cdn.evbuc_.com_images_1006175783_3327551947_1_original.png
END:VEVENT
END:VCALENDAR