BEGIN:VCALENDAR
VERSION:2.0
PRODID:-//Durham Convention Center - ECPv6.15.20//NONSGML v1.0//EN
CALSCALE:GREGORIAN
METHOD:PUBLISH
X-WR-CALNAME:Durham Convention Center
X-ORIGINAL-URL:https://durhamconventioncenter.com
X-WR-CALDESC:Events for Durham Convention Center
REFRESH-INTERVAL;VALUE=DURATION:PT1H
X-Robots-Tag:noindex
X-PUBLISHED-TTL:PT1H
BEGIN:VTIMEZONE
TZID:UTC
BEGIN:STANDARD
TZOFFSETFROM:+0000
TZOFFSETTO:+0000
TZNAME:UTC
DTSTART:20240101T000000
END:STANDARD
END:VTIMEZONE
BEGIN:VEVENT
DTSTART;TZID=UTC:20251103T123000
DTEND;TZID=UTC:20251105T141500
DTSTAMP:20260423T225954
CREATED:20250916T200115Z
LAST-MODIFIED:20250916T203636Z
UID:10000022-1762173000-1762352100@durhamconventioncenter.com
SUMMARY:2025 ArtsMarket
DESCRIPTION:The North Carolina Presenters Consortium\, in partnership with the North Carolina Arts Council\, is excited to host ArtsMarket 2025 in downtown Durham\, November 3–5. \nThis three-day convention celebrates the performing arts with showcases\, vendors\, professional development sessions\, and plenty of networking opportunities. Events will take place across DPlex and other downtown venues\, bringing the arts community together in the heart of the city. \nWhether you’re a student\, local arts enthusiast\, or member of NCPC\, you’re invited to attend! View pricing and registration details on NCPC’s website. \nAccommodations:\nThe event has conference rates available at the Durham Marriott City Center\, which is attached to the Durham Convention Center\, and 21C Museum Hotel\, which is a short 3 minute walk. The room rate at the Marriott is $235/night+tax and can be reserved via this reservation link. The rate at 21C is $179/night+tax and can be reserved via this reservation link. \nAdditional hotels within walking distance are listed on our website here. \nDirections/Parking:\nLive locally? The convention center has a parking deck directly across the street along with street parking at the entrance. Find directions and parking details on our website.
URL:https://durhamconventioncenter.com/event/2025-artsmarket/
LOCATION:Durham Convention Center\, 301 W. Morgan St.\, Durham\, NC\, 27701\, United States
ATTACH;FMTTYPE=image/png:https://durhamconventioncenter.com/wp-content/uploads/2025/09/AM25Banner.png
END:VEVENT
END:VCALENDAR