BEGIN:VCALENDAR
VERSION:2.0
PRODID:-//Durham Convention Center - ECPv6.15.20//NONSGML v1.0//EN
CALSCALE:GREGORIAN
METHOD:PUBLISH
X-WR-CALNAME:Durham Convention Center
X-ORIGINAL-URL:https://durhamconventioncenter.com
X-WR-CALDESC:Events for Durham Convention Center
REFRESH-INTERVAL;VALUE=DURATION:PT1H
X-Robots-Tag:noindex
X-PUBLISHED-TTL:PT1H
BEGIN:VTIMEZONE
TZID:UTC
BEGIN:STANDARD
TZOFFSETFROM:+0000
TZOFFSETTO:+0000
TZNAME:UTC
DTSTART:20250101T000000
END:STANDARD
END:VTIMEZONE
BEGIN:VEVENT
DTSTART;TZID=UTC:20260926T100000
DTEND;TZID=UTC:20260927T163000
DTSTAMP:20260423T183918
CREATED:20260305T204645Z
LAST-MODIFIED:20260311T132802Z
UID:10000035-1790416800-1790526600@durhamconventioncenter.com
SUMMARY:Lore Con
DESCRIPTION:Lore Con 2026 is live! Get your tickets now. \nLore Con is a two-day cultural convention in Durham\, NC built for fans\, creators\, and community. We celebrate the stories\, passions\, and communities that make us who we are. Pop Culture. Anime. Gaming. Comics. Streetwear. Tech. Music. Whether you create it\, collect it\, or live it – What’s Your Lore? \nTicket Info:\n● Founding VIP Member \n● VIP \n● Weekend Early Bird General Admission \n● Weekend General Admission \n● Kids 10 and under: Free with paid adult ticket \nGet your tickets at loreconvention.com \nGuest Sneak Peek:\nLore Con brings together creators\, storytellers\, fans\, collectors\, and community from across the Southeast. We’re excited to welcome The Blerd Without Fear (Comic Book Lorekeeper – 123K YouTube subscribers) & Fantastic Frankey (Nerd Commentator – 188K Tik Tok followers) as anchor guests for 2026. More guests will be announced soon -> follow us at @loreconvention for updates. \nVendor Info:\nWant to be part of Lore Con 2026? Vendor applications are open now. We have 24 available 10×10 booths for independent creators\, businesses\, and artists. Apply at loreconvention.com/vendors. \nEvery venue has different rules and policies for vendors. That’s why the Durham Convention Center has an exhibitor FAQ and packet for you to review. Find information about loading dock procedures\, parking recommendations\, drayage\, and more on the exhibitor page. \nParking:\nDurham Convention Center is located in the heart of downtown Durham at 301 W Morgan St. The Durham Centre Parking Garage is directly across the street with over 700 spaces. Additional parking options are available throughout downtown Durham. Find parking information and directions on the parking page.
URL:https://durhamconventioncenter.com/event/lore-con/
LOCATION:Durham Convention Center\, 301 W. Morgan St.\, Durham\, NC\, 27701\, United States
ATTACH;FMTTYPE=image/jpeg:https://durhamconventioncenter.com/wp-content/uploads/2026/03/Lore-Con-2026-DCC-1920-1080.jpg
END:VEVENT
END:VCALENDAR