BEGIN:VCALENDAR
VERSION:2.0
PRODID:-//Durham Convention Center - ECPv6.15.20//NONSGML v1.0//EN
CALSCALE:GREGORIAN
METHOD:PUBLISH
X-ORIGINAL-URL:https://durhamconventioncenter.com
X-WR-CALDESC:Events for Durham Convention Center
REFRESH-INTERVAL;VALUE=DURATION:PT1H
X-Robots-Tag:noindex
X-PUBLISHED-TTL:PT1H
BEGIN:VTIMEZONE
TZID:UTC
BEGIN:STANDARD
TZOFFSETFROM:+0000
TZOFFSETTO:+0000
TZNAME:UTC
DTSTART:20230101T000000
END:STANDARD
END:VTIMEZONE
BEGIN:VEVENT
DTSTART;TZID=UTC:20241018T183000
DTEND;TZID=UTC:20241018T213000
DTSTAMP:20260423T232513
CREATED:20240809T203827Z
LAST-MODIFIED:20240928T173230Z
UID:10000005-1729276200-1729287000@durhamconventioncenter.com
SUMMARY:Kyndall Owens Solo Art Exhibition
DESCRIPTION:Join us to celebrate Kyndall Owens\, aka Kreativityyy\, newest art “In the Presence of Divine Creativity.” The solo exhibition is free to the public and begins at 6:30 PM on 10.18.24. The exhibition will feature a range of original paintings with special insight into the designs by Kyndall Owens. \nWhile viewing the spectacular pieces of art\, you can also enter giveaways\, snack\, and listen to live music. RSVP for the event on Eventbrite.
URL:https://durhamconventioncenter.com/event/kyndall-owens-solo-art-exhibition/
LOCATION:Durham Convention Center\, 301 W. Morgan St.\, Durham\, NC\, 27701\, United States
ATTACH;FMTTYPE=image/png:https://durhamconventioncenter.com/wp-content/uploads/2024/08/Landscape-Flyer.png
END:VEVENT
END:VCALENDAR