BEGIN:VCALENDAR
VERSION:2.0
PRODID:-//Durham Convention Center - ECPv6.15.20//NONSGML v1.0//EN
CALSCALE:GREGORIAN
METHOD:PUBLISH
X-WR-CALNAME:Durham Convention Center
X-ORIGINAL-URL:https://durhamconventioncenter.com
X-WR-CALDESC:Events for Durham Convention Center
REFRESH-INTERVAL;VALUE=DURATION:PT1H
X-Robots-Tag:noindex
X-PUBLISHED-TTL:PT1H
BEGIN:VTIMEZONE
TZID:UTC
BEGIN:STANDARD
TZOFFSETFROM:+0000
TZOFFSETTO:+0000
TZNAME:UTC
DTSTART:20250101T000000
END:STANDARD
END:VTIMEZONE
BEGIN:VEVENT
DTSTART;TZID=UTC:20260302T160000
DTEND;TZID=UTC:20260302T203000
DTSTAMP:20260423T200303
CREATED:20260225T190914Z
LAST-MODIFIED:20260227T134212Z
UID:10000032-1772467200-1772483400@durhamconventioncenter.com
SUMMARY:K-Pop Warriors
DESCRIPTION:Join us for the fun-packed tribute show K-Pop Warriors! There will be stunning choreography\, vibrant costumes\, and the rhythm of K-Pop. \nShows are 1.5 hrs long and friendly for all ages. \n\nShow 1: Begins at 4 PM\nShow 2: Begins at 7 PM\n\nWe recommend arriving 10 minutes early for parking\, which is available at the Durham Centre Garage on W Morgan St. Directions are available on our website. \nTickets can be purchased on Eventbrite. \n 
URL:https://durhamconventioncenter.com/event/k-pop-warriors/
LOCATION:Durham Convention Center\, 301 W. Morgan St.\, Durham\, NC\, 27701\, United States
ATTACH;FMTTYPE=image/png:https://durhamconventioncenter.com/wp-content/uploads/2026/02/Untitled-1.png
END:VEVENT
END:VCALENDAR