BEGIN:VCALENDAR
VERSION:2.0
PRODID:-//Durham Convention Center - ECPv6.15.20//NONSGML v1.0//EN
CALSCALE:GREGORIAN
METHOD:PUBLISH
X-ORIGINAL-URL:https://durhamconventioncenter.com
X-WR-CALDESC:Events for Durham Convention Center
REFRESH-INTERVAL;VALUE=DURATION:PT1H
X-Robots-Tag:noindex
X-PUBLISHED-TTL:PT1H
BEGIN:VTIMEZONE
TZID:UTC
BEGIN:STANDARD
TZOFFSETFROM:+0000
TZOFFSETTO:+0000
TZNAME:UTC
DTSTART:20250101T000000
END:STANDARD
END:VTIMEZONE
BEGIN:VEVENT
DTSTART;TZID=UTC:20260317T113000
DTEND;TZID=UTC:20260317T133000
DTSTAMP:20260423T213920
CREATED:20260303T144127Z
LAST-MODIFIED:20260303T144325Z
UID:10000033-1773747000-1773754200@durhamconventioncenter.com
SUMMARY:2026 Durham Chamber Annual Meeting
DESCRIPTION:The Durham Show returns for its fifth season on March 17\, 2026\, at the Carolina Theatre\, featuring highlights from 2025 and a look ahead to 2026\, along with special guests\, an award presentation\, and the ceremonial passing of the gavel. The program runs from 11:30 AM–12:30 PM (with registration at 10:45 AM and a reception following at the Durham Convention Center). Parking is available at the Durham Centre lot for a flat $7 fee (10:00–11:45 AM)\, with additional downtown parking options nearby. Find directions here- https://durhamconventioncenter.com/home/directions-parking/. \nThank you to our sponsors–\n\nGold: Amazon; Triangle Media Partners\nSilver: Beacon Partners\nBeverage: Rand Coca-Cola Beverages\n\nRegister Here- https://members.durhamchamber.org/events/details/2026-annual-meeting-8966 \nFor all inquiries\, contact Alexia Gavin\, agavin@durhamchamber.org or Brandon Pinnix\, bpinnix@durhamchamber.org \nGet Social With Us– @DurhamChamber
URL:https://durhamconventioncenter.com/event/2026-durham-chamber-annual-meeting/
LOCATION:Durham Convention Center\, 301 W. Morgan St.\, Durham\, NC\, 27701\, United States
ATTACH;FMTTYPE=image/png:https://durhamconventioncenter.com/wp-content/uploads/2026/03/The-Durham-Show-Graphic.png
END:VEVENT
END:VCALENDAR