BEGIN:VCALENDAR
VERSION:2.0
PRODID:-//Durham Convention Center - ECPv6.15.20//NONSGML v1.0//EN
CALSCALE:GREGORIAN
METHOD:PUBLISH
X-WR-CALNAME:Durham Convention Center
X-ORIGINAL-URL:https://durhamconventioncenter.com
X-WR-CALDESC:Events for Durham Convention Center
REFRESH-INTERVAL;VALUE=DURATION:PT1H
X-Robots-Tag:noindex
X-PUBLISHED-TTL:PT1H
BEGIN:VTIMEZONE
TZID:UTC
BEGIN:STANDARD
TZOFFSETFROM:+0000
TZOFFSETTO:+0000
TZNAME:UTC
DTSTART:20240101T000000
END:STANDARD
END:VTIMEZONE
BEGIN:VEVENT
DTSTART;TZID=UTC:20251020T090000
DTEND;TZID=UTC:20251020T170000
DTSTAMP:20260424T011212
CREATED:20250730T184827Z
LAST-MODIFIED:20250801T124839Z
UID:10000017-1760950800-1760979600@durhamconventioncenter.com
SUMMARY:Celebrating People\, Profits & Productivity-2025 Durham MED Week Celebration
DESCRIPTION:Kickoff Durham MED Week 2025 at the Durham Convention Center! Starting at 9 AM\, meet with industry experts\, attend workshops\, and discover new opportunities. \nTimeline:\n9a-2p – Keynote Address with Curtis Ray Hill\nCurtis Ray Hill is president of Culture of Belonging Global\, INC and is an inclusion equity coach. \n2-5p – Business Fair\nThe fair will focus on MWUBEs and connect minority and women-owned businesses with companies that have subcontracting and small business opportunities. \nParking\nParking at the Durham Convention Center is located across the street at the Durham Centre Garage. Find more information and directions on our website. \nBackground\nMED stands for Minority Enterprise Development. This event\, planned by the City of Durham\, highlights achievements and impacts of minority business owners throughout North Carolina. The week unites a diverse group of business owners\, leaders\, and professionals from various industries together to spark innovation and unlock new growth opportunities. Read more about the event on the city’s website.
URL:https://durhamconventioncenter.com/event/2025-durham-med-week-celebration/
LOCATION:Durham Convention Center\, 301 W. Morgan St.\, Durham\, NC\, 27701\, United States
ATTACH;FMTTYPE=image/jpeg:https://durhamconventioncenter.com/wp-content/uploads/2025/07/https___cdn.evbuc_.com_images_1046008223_2746954811551_1_original.jpg
END:VEVENT
END:VCALENDAR