BEGIN:VCALENDAR
VERSION:2.0
PRODID:-//Durham Convention Center - ECPv6.15.20//NONSGML v1.0//EN
CALSCALE:GREGORIAN
METHOD:PUBLISH
X-WR-CALNAME:Durham Convention Center
X-ORIGINAL-URL:https://durhamconventioncenter.com
X-WR-CALDESC:Events for Durham Convention Center
REFRESH-INTERVAL;VALUE=DURATION:PT1H
X-Robots-Tag:noindex
X-PUBLISHED-TTL:PT1H
BEGIN:VTIMEZONE
TZID:UTC
BEGIN:STANDARD
TZOFFSETFROM:+0000
TZOFFSETTO:+0000
TZNAME:UTC
DTSTART:20250101T000000
END:STANDARD
END:VTIMEZONE
BEGIN:VEVENT
DTSTART;TZID=UTC:20260213T113000
DTEND;TZID=UTC:20260213T153000
DTSTAMP:20260423T200303
CREATED:20260206T182656Z
LAST-MODIFIED:20260206T185845Z
UID:10000031-1770982200-1770996600@durhamconventioncenter.com
SUMMARY:Fighting Oligarchy: Where We Go From Here with Bernie Sanders
DESCRIPTION:Join Bernie Sanders and Nida Allam on February 13 at the Durham Convention Center for the Fighting Oligarchy tour! \nDoors: 11:30 AM \nProgram Start: 2 PM \nRSVP’s are encouraged\, but not required. RSVP here: https://act.berniesanders.com/signup/rsvp-oligarchy-durham/. \nMeet the Speakers\nBernie Sanders is a U.S. Senator\, elected in 2006\, from Vermont. Sanders is the longest serving independent member of Congress and has spent is 4 terms fighting for working families\, the shrinking middle class\, and closing the partisan divide. Read more about him on his website. \nNida Allam was elected to the Durham County Board of Commissioners in 2020\, making history as the 1st Muslim women to serve in public office in North Carolina. She continued to become the youngest County Commission Chair in 2023. Now\, Allam is running for congress. Learn more about her history and platform on her website. \nParking\nParking for the rally is available at the Durham Centre Garage\, located on W Morgan St. The garage is $2.25/hr. Limited street parking is available on W Morgan St and Foster St. Find directions to the venue and garage on our website. \nThings to Do\nWhile in downtown\, spend the day exploring amazing restaurants\, bars\, and art galleries. Discover Durham has compiled a list of wonderful eateries to try. Our team created a list of some of our favorite things to do\, all within walking distance. Check out that list here.
URL:https://durhamconventioncenter.com/event/fighting-oligarchy-where-we-go-from-here-with-bernie-sanders/
LOCATION:Durham Convention Center\, 301 W. Morgan St.\, Durham\, NC\, 27701\, United States
ATTACH;FMTTYPE=image/png:https://durhamconventioncenter.com/wp-content/uploads/2026/02/20260202-FightOligarchy-NC-1920-1.png
END:VEVENT
END:VCALENDAR